BEGIN:VCALENDAR
VERSION:2.0
PRODID:-//Synagogue des Tournelles - ECPv6.15.20//NONSGML v1.0//EN
CALSCALE:GREGORIAN
METHOD:PUBLISH
X-WR-CALNAME:Synagogue des Tournelles
X-ORIGINAL-URL:https://tempsynatour.org
X-WR-CALDESC:Évènements pour Synagogue des Tournelles
REFRESH-INTERVAL;VALUE=DURATION:PT1H
X-Robots-Tag:noindex
X-PUBLISHED-TTL:PT1H
BEGIN:VTIMEZONE
TZID:Europe/Paris
BEGIN:DAYLIGHT
TZOFFSETFROM:+0100
TZOFFSETTO:+0200
TZNAME:CEST
DTSTART:20220327T010000
END:DAYLIGHT
BEGIN:STANDARD
TZOFFSETFROM:+0200
TZOFFSETTO:+0100
TZNAME:CET
DTSTART:20221030T010000
END:STANDARD
BEGIN:DAYLIGHT
TZOFFSETFROM:+0100
TZOFFSETTO:+0200
TZNAME:CEST
DTSTART:20230326T010000
END:DAYLIGHT
BEGIN:STANDARD
TZOFFSETFROM:+0200
TZOFFSETTO:+0100
TZNAME:CET
DTSTART:20231029T010000
END:STANDARD
BEGIN:DAYLIGHT
TZOFFSETFROM:+0100
TZOFFSETTO:+0200
TZNAME:CEST
DTSTART:20240331T010000
END:DAYLIGHT
BEGIN:STANDARD
TZOFFSETFROM:+0200
TZOFFSETTO:+0100
TZNAME:CET
DTSTART:20241027T010000
END:STANDARD
END:VTIMEZONE
BEGIN:VEVENT
DTSTART;TZID=Europe/Paris:20230623T213900
DTEND;TZID=Europe/Paris:20230624T230400
DTSTAMP:20260421T153924
CREATED:20230621T145017Z
LAST-MODIFIED:20230621T145113Z
UID:479-1687556340-1687647840@tempsynatour.org
SUMMARY:Shabbat Kora'h Ven. 23 Juin 2023
DESCRIPTION:
URL:https://tempsynatour.org/event/shabbat-korah-ven-23-juin-2023/
CATEGORIES:Shabbat
END:VEVENT
END:VCALENDAR